BEGIN:VCALENDAR
VERSION:2.0
PRODID:Spatie calendar-links
BEGIN:VEVENT
UID:ed50ca5b58bfc8923c5e53fb694423ee
SUMMARY:Doctors on Tour Dec 14th Sorrento BC 
DTSTAMP;TZID=America/Vancouver:20211214T183000
DTSTART;TZID=America/Vancouver:20211214T183000
DTEND;TZID=America/Vancouver:20211214T210000
LOCATION:Sorrento\, BC\, Canada
END:VEVENT
END:VCALENDAR