BEGIN:VCALENDAR
VERSION:2.0
PRODID:Spatie calendar-links
BEGIN:VEVENT
UID:74dc1df5ebabbc59fb218bed9d869832
SUMMARY:Ryerson Freedom Rally Dec 18th Toronto
DTSTAMP;TZID=America/Toronto:20211218T133000
DTSTART;TZID=America/Toronto:20211218T133000
DTEND;TZID=America/Toronto:20211218T160000
LOCATION:Toronto\, Ontario\, Canada
END:VEVENT
END:VCALENDAR