BEGIN:VCALENDAR
VERSION:2.0
PRODID:Spatie calendar-links
BEGIN:VEVENT
UID:e354120c5043795fb1b219279e46b6a3
SUMMARY:Educate B4U Vaccinate Doctors Educational Roadshow
DTSTAMP;TZID=America/Vancouver:20211211T130000
DTSTART;TZID=America/Vancouver:20211211T130000
DTEND;TZID=America/Vancouver:20211211T140000
LOCATION:Powell River\, BC\, Canada
END:VEVENT
END:VCALENDAR