BEGIN:VCALENDAR
VERSION:2.0
PRODID:Spatie calendar-links
BEGIN:VEVENT
UID:79b04ba78acd6f784fc2051f3c9b426a
SUMMARY:Educate B4U Vaccinate Doctors Educational Roadshow
DTSTAMP;TZID=America/Vancouver:20211212T130000
DTSTART;TZID=America/Vancouver:20211212T130000
DTEND;TZID=America/Vancouver:20211212T140000
LOCATION:Nanaimo\, BC\, Canada
END:VEVENT
END:VCALENDAR