BEGIN:VCALENDAR
VERSION:2.0
PRODID:Spatie calendar-links
BEGIN:VEVENT
UID:60f10b9d4a046f81353a219beed6a3a2
SUMMARY:Open to community
DTSTAMP;TZID=America/Los_Angeles:20211211T130100
DTSTART;TZID=America/Los_Angeles:20211211T130100
DTEND;TZID=America/Los_Angeles:20211212T210000
LOCATION:3650 Douglas Rd\, Burnaby\, BC\, Canada
END:VEVENT
END:VCALENDAR