BEGIN:VCALENDAR
VERSION:2.0
PRODID:Spatie calendar-links
BEGIN:VEVENT
UID:c3d9e1e526870c5c7b2ccec35a358272
SUMMARY:Educate B4U Vaccinate Doctors Educational Roadshow
DTSTAMP;TZID=America/Vancouver:20211213T190000
DTSTART;TZID=America/Vancouver:20211213T190000
DTEND;TZID=America/Vancouver:20211213T200000
LOCATION:Kelowna\, BC\, Canada
END:VEVENT
END:VCALENDAR