BEGIN:VCALENDAR
VERSION:2.0
PRODID:Spatie calendar-links
BEGIN:VEVENT
UID:4f92ddf85acbe47b327d41857b9a830c
SUMMARY:Doctors on Tour Dec 13th Kelowna
DTSTAMP;TZID=America/Vancouver:20211213T183000
DTSTART;TZID=America/Vancouver:20211213T183000
DTEND;TZID=America/Vancouver:20211213T210000
LOCATION:410 Leatherhead Rd.\, Kelowna\, BC\, Canada
END:VEVENT
END:VCALENDAR