BEGIN:VCALENDAR
VERSION:2.0
PRODID:Spatie calendar-links
BEGIN:VEVENT
UID:d3428d6823c16d4846e95d9e595b48c6
SUMMARY:Drive The Line
DTSTAMP;TZID=America/Toronto:20210314T120000
DTSTART;TZID=America/Toronto:20210314T120000
DTEND;TZID=America/Toronto:20210314T150000
LOCATION:Toronto\, ON\, Canada
END:VEVENT
END:VCALENDAR