BEGIN:VCALENDAR
VERSION:2.0
PRODID:Spatie calendar-links
BEGIN:VEVENT
UID:6157cbfbabc00451d13d0e6da3541f85
SUMMARY:Freedom Worship Rally - Revival Centre - Pitt Meadows
DTSTAMP;TZID=America/Los_Angeles:20211212T173000
DTSTART;TZID=America/Los_Angeles:20211212T173000
DTEND;TZID=America/Los_Angeles:20211218T213000
LOCATION:19040 Lougheed Highway\, Pitt Meadows\, British Columbia\, Canada
END:VEVENT
END:VCALENDAR