BEGIN:VCALENDAR
VERSION:2.0
PRODID:Spatie calendar-links
BEGIN:VEVENT
UID:d2ff5e66cbc8f3afab75c586959d565b
SUMMARY:The Media Is The Virus - Burnaby
DTSTAMP;TZID=America/Los_Angeles:20220108T120000
DTSTART;TZID=America/Los_Angeles:20220108T120000
DTEND;TZID=America/Los_Angeles:20220108T150000
LOCATION:7850 Enterprise Street\, Burnaby\, British Columbia\, Canada
END:VEVENT
END:VCALENDAR