BEGIN:VCALENDAR
VERSION:2.0
PRODID:Spatie calendar-links
BEGIN:VEVENT
UID:233c69e694de262880ae784d5459aacb
SUMMARY:Educate B4U Vaccinate Doctors Educational Roadshow
DTSTAMP;TZID=America/Vancouver:20211215T190000
DTSTART;TZID=America/Vancouver:20211215T190000
DTEND;TZID=America/Vancouver:20211215T200000
LOCATION:Squamish\, BC\, Canada
END:VEVENT
END:VCALENDAR