BEGIN:VCALENDAR
VERSION:2.0
PRODID:Spatie calendar-links
BEGIN:VEVENT
UID:14ea6b2defede0ee06d9fba65ac2d4ef
SUMMARY:Educate B4U Vaccinate Doctors Educational Roadshow
DTSTAMP;TZID=America/Vancouver:20211216T180000
DTSTART;TZID=America/Vancouver:20211216T180000
DTEND;TZID=America/Vancouver:20211216T200000
LOCATION:Pemberton\, BC\, Canada
END:VEVENT
END:VCALENDAR