BEGIN:VCALENDAR
VERSION:2.0
PRODID:Spatie calendar-links
BEGIN:VEVENT
UID:c6a80bb6debc1da300436baf9e3b7825
SUMMARY:Doctors On Tour - Kamloops
DTSTAMP;TZID=America/Los_Angeles:20211215T190000
DTSTART;TZID=America/Los_Angeles:20211215T190000
DTEND;TZID=America/Los_Angeles:20211215T213000
LOCATION:100 Lorne Street\, Kamloops\, British Columbia\, Canada
END:VEVENT
END:VCALENDAR