BEGIN:VCALENDAR
VERSION:2.0
PRODID:Spatie calendar-links
BEGIN:VEVENT
UID:bfeb85b6e92908675de66c5f4ada309d
SUMMARY:Ezra Leadership Conference Rescheduled to Jan 7th Calgary
DTSTAMP;TZID=America/Edmonton:20220107T100000
DTSTART;TZID=America/Edmonton:20220107T100000
DTEND;TZID=America/Edmonton:20220107T150000
LOCATION:Calgary\, Alberta\, Canada
END:VEVENT
END:VCALENDAR