BEGIN:VCALENDAR
VERSION:2.0
PRODID:Spatie calendar-links
BEGIN:VEVENT
UID:2bd0ffd0be85efff5ca4da841068a98d
SUMMARY:SkyTrain Walk4Freedom
DTSTAMP;TZID=America/Los_Angeles:20211217T184500
DTSTART;TZID=America/Los_Angeles:20211217T184500
DTEND;TZID=America/Los_Angeles:20211217T194500
LOCATION:601 West Cordova Street\, Vancouver\, British Columbia\, Canada
END:VEVENT
END:VCALENDAR