BEGIN:VCALENDAR
VERSION:2.0
PRODID:Spatie calendar-links
BEGIN:VEVENT
UID:22e0668f38dab917b30e702bf30037b5
SUMMARY:Covid is Over - Guelph\, Ontario
DTSTAMP;TZID=America/Toronto:20210314T130000
DTSTART;TZID=America/Toronto:20210314T130000
DTEND;TZID=America/Toronto:20210314T160000
LOCATION:Guelph\, ON\, Canada
END:VEVENT
END:VCALENDAR