BEGIN:VCALENDAR
VERSION:2.0
PRODID:Spatie calendar-links
BEGIN:VEVENT
UID:1f2451b451e25ef257eadee10f25a2fe
SUMMARY:Doctors On Tour - Squamish
DTSTAMP;TZID=America/Los_Angeles:20211217T180000
DTSTART;TZID=America/Los_Angeles:20211217T180000
DTEND;TZID=America/Los_Angeles:20211217T210000
LOCATION:15060 Squamish Valley Rd\, Squamish\, British Columbia\, Canada
END:VEVENT
END:VCALENDAR