BEGIN:VCALENDAR
VERSION:2.0
PRODID:Spatie calendar-links
BEGIN:VEVENT
UID:361dae6ae19d88e4a3cad9ee94600cbc
SUMMARY:EZRA LEADERSHIP CONFERENCE -  Calgary\, AB
DTSTAMP;TZID=America/Los_Angeles:20211227T100000
DTSTART;TZID=America/Los_Angeles:20211227T100000
DTEND;TZID=America/Los_Angeles:20211227T170000
END:VEVENT
END:VCALENDAR