BEGIN:VCALENDAR
VERSION:2.0
PRODID:Spatie calendar-links
BEGIN:VEVENT
UID:f8d9d82a748c7a0318db857db4a50254
SUMMARY:Christmas Market at Free Space
DTSTAMP;TZID=America/Los_Angeles:20211223T100000
DTSTART;TZID=America/Los_Angeles:20211223T100000
DTEND;TZID=America/Los_Angeles:20211223T220000
LOCATION:3650 Douglas Rd\, Burnaby\, BC\, Canada
END:VEVENT
END:VCALENDAR