BEGIN:VCALENDAR
VERSION:2.0
PRODID:Spatie calendar-links
BEGIN:VEVENT
UID:e35cbbdcf7107b8921d6278c6f78dca8
SUMMARY:THE MEDIA IS THE VIRUS - Kelowna
DTSTAMP;TZID=America/Los_Angeles:20220108T120000
DTSTART;TZID=America/Los_Angeles:20220108T120000
DTEND;TZID=America/Los_Angeles:20220108T150000
LOCATION:342 Leon Ave\, Kelowna\, British Columbia\, Canada
END:VEVENT
END:VCALENDAR