BEGIN:VCALENDAR
VERSION:2.0
PRODID:Spatie calendar-links
BEGIN:VEVENT
UID:f3311022be4824614e2d4712ae521854
SUMMARY:THE MEDIA IS THE VIRUS
DTSTAMP;TZID=America/Los_Angeles:20220108T120000
DTSTART;TZID=America/Los_Angeles:20220108T120000
DTEND;TZID=America/Los_Angeles:20220108T150000
END:VEVENT
END:VCALENDAR