BEGIN:VCALENDAR
VERSION:2.0
PRODID:Spatie calendar-links
BEGIN:VEVENT
UID:18afe1ebcac2ec77b4731d595f5917cc
SUMMARY:THE MEDIA IS THE VIRUS - Edmonton
DTSTAMP;TZID=America/Los_Angeles:20220108T130000
DTSTART;TZID=America/Los_Angeles:20220108T130000
DTEND;TZID=America/Los_Angeles:20220108T150000
LOCATION:5325 Allard Way NW\, Edmonton\, Alberta\, Canada
END:VEVENT
END:VCALENDAR