BEGIN:VCALENDAR
VERSION:2.0
PRODID:Spatie calendar-links
BEGIN:VEVENT
UID:b2a1ab623f2e5677f22deef183f69db6
SUMMARY:THE MEDIA IS THE VIRUS - Regina
DTSTAMP;TZID=America/Los_Angeles:20220108T120000
DTSTART;TZID=America/Los_Angeles:20220108T120000
DTEND;TZID=America/Los_Angeles:20220108T150000
LOCATION:370 Hoffer Drive\, Regina\, Saskatchewan\, Canada
END:VEVENT
END:VCALENDAR