BEGIN:VCALENDAR
VERSION:2.0
PRODID:Spatie calendar-links
BEGIN:VEVENT
UID:4880348d96bf0ce1ddbc9c01c4a0a59e
SUMMARY:THE MEDIA IS THE VIRUS - Saskatoon
DTSTAMP;TZID=America/Los_Angeles:20220108T120000
DTSTART;TZID=America/Los_Angeles:20220108T120000
DTEND;TZID=America/Los_Angeles:20220108T150000
LOCATION:218 Robin Crescent\, Saskatoon\, British Columbia\, Canada
END:VEVENT
END:VCALENDAR