BEGIN:VCALENDAR
VERSION:2.0
PRODID:Spatie calendar-links
BEGIN:VEVENT
UID:0c8349655757ce62d26ed3d100c24739
SUMMARY:THE MEDIA IS THE VIRUS - Ottawa
DTSTAMP;TZID=America/Los_Angeles:20220108T120000
DTSTART;TZID=America/Los_Angeles:20220108T120000
DTEND;TZID=America/Los_Angeles:20220108T150000
LOCATION:181 Queen Street\, Ottawa\, Ontario\, Canada
END:VEVENT
END:VCALENDAR