BEGIN:VCALENDAR
VERSION:2.0
PRODID:Spatie calendar-links
BEGIN:VEVENT
UID:fe568eb5cccee4a1931d4d966b45dea4
SUMMARY:THE MEDIA IS THE VIRUS - Toronto
DTSTAMP;TZID=America/Los_Angeles:20220108T120000
DTSTART;TZID=America/Los_Angeles:20220108T120000
DTEND;TZID=America/Los_Angeles:20220108T150000
LOCATION:25 Dockside Drive\, Toronto\, Ontario\, Canada
END:VEVENT
END:VCALENDAR