BEGIN:VCALENDAR
VERSION:2.0
PRODID:Spatie calendar-links
BEGIN:VEVENT
UID:b152afac23717b6ef49fa33f7bf9ef12
SUMMARY:FREEDOM FORUM NEWS OPEN MEETING FOR CONTRIBUTORS EVERY SUNDAY AT 7PM EST ONLINE
DTSTAMP;TZID=America/Toronto:20210314T190000
DTSTART;TZID=America/Toronto:20210314T190000
DTEND;TZID=America/Toronto:20210314T210000
LOCATION:Toronto\, ON\, Canada
END:VEVENT
END:VCALENDAR