BEGIN:VCALENDAR
VERSION:2.0
PRODID:Spatie calendar-links
BEGIN:VEVENT
UID:6dda144996abdd601744fb814c5bd861
SUMMARY:THE MEDIA IS THE VIRUS - Pembroke
DTSTAMP;TZID=America/Los_Angeles:20220108T120000
DTSTART;TZID=America/Los_Angeles:20220108T120000
DTEND;TZID=America/Los_Angeles:20220108T150000
LOCATION:84 Isabella St\, Pembroke\, British Columbia\, Canada
END:VEVENT
END:VCALENDAR