BEGIN:VCALENDAR
VERSION:2.0
PRODID:Spatie calendar-links
BEGIN:VEVENT
UID:c503c7f04977d4299024b229a12faa07
SUMMARY:THE MEDIA IS THE VIRUS - Winnipeg
DTSTAMP;TZID=America/Los_Angeles:20220108T120000
DTSTART;TZID=America/Los_Angeles:20220108T120000
DTEND;TZID=America/Los_Angeles:20220108T150000
LOCATION:201 Portage Ave\, Winnipeg\, Manitoba\, Canada
END:VEVENT
END:VCALENDAR