BEGIN:VCALENDAR
VERSION:2.0
PRODID:Spatie calendar-links
BEGIN:VEVENT
UID:4b3d26a2405f269cadd5d5c3f6fa3743
SUMMARY:THE MEDIA IS THE VIRUS - Halifax
DTSTAMP;TZID=America/Los_Angeles:20220108T120000
DTSTART;TZID=America/Los_Angeles:20220108T120000
DTEND;TZID=America/Los_Angeles:20220108T150000
LOCATION:2110 Gottingen St\, Halifax\, Nova Scotia\, Canada
END:VEVENT
END:VCALENDAR