BEGIN:VCALENDAR
VERSION:2.0
PRODID:Spatie calendar-links
BEGIN:VEVENT
UID:53769af6f8b46c3ee06763dfa565668e
SUMMARY:THE MEDIA IS THE VIRUS - St. John's
DTSTAMP;TZID=America/Los_Angeles:20220108T120000
DTSTART;TZID=America/Los_Angeles:20220108T120000
DTEND;TZID=America/Los_Angeles:20220108T150000
LOCATION:95 University Avenue\, St. John's\, Newfoundland\, Canada
END:VEVENT
END:VCALENDAR