BEGIN:VCALENDAR
VERSION:2.0
PRODID:Spatie calendar-links
BEGIN:VEVENT
UID:f22c8136b14aaab6a2bbfe3315b916f8
SUMMARY:THE MEDIA IS THE VIRUS - Calgary
DTSTAMP;TZID=America/Los_Angeles:20220108T120000
DTSTART;TZID=America/Los_Angeles:20220108T120000
DTEND;TZID=America/Los_Angeles:20220108T150000
LOCATION:222 23 Street Northeast\, Calgary\, Alberta\, Canada
END:VEVENT
END:VCALENDAR