BEGIN:VCALENDAR
VERSION:2.0
PRODID:Spatie calendar-links
BEGIN:VEVENT
UID:fe5051f7b82c1ac40a7d916f4a22d346
SUMMARY:THE MEDIA IS THE VIRUS - Victoria
DTSTAMP;TZID=America/Los_Angeles:20220108T120000
DTSTART;TZID=America/Los_Angeles:20220108T120000
DTEND;TZID=America/Los_Angeles:20220108T150000
LOCATION:780 Kings Rd\, Victoria\, British Columbia\, Canada
END:VEVENT
END:VCALENDAR