BEGIN:VCALENDAR
VERSION:2.0
PRODID:Spatie calendar-links
BEGIN:VEVENT
UID:bf18bd53a1837d0bcda0db13f16515fa
SUMMARY:Mind Map series: Duality
DTSTAMP;TZID=America/Los_Angeles:20220106T173200
DTSTART;TZID=America/Los_Angeles:20220106T173200
DTEND;TZID=America/Los_Angeles:20220106T192800
LOCATION:3650 Douglas Rd.\, Burnaby\, BC\, Canada
END:VEVENT
END:VCALENDAR