BEGIN:VCALENDAR
VERSION:2.0
PRODID:Spatie calendar-links
BEGIN:VEVENT
UID:344aaab5706dc78fa9aa599e3da85cf6
SUMMARY:Mind Map series: Duality
DTSTAMP;TZID=America/Los_Angeles:20220109T120000
DTSTART;TZID=America/Los_Angeles:20220109T120000
DTEND;TZID=America/Los_Angeles:20220109T150000
LOCATION:3650 Douglas Rd.\, Burnaby\, BC\, Canada
END:VEVENT
END:VCALENDAR