BEGIN:VCALENDAR
VERSION:2.0
PRODID:Spatie calendar-links
BEGIN:VEVENT
UID:4167c8346efcd154ef27b9ffe3b28b96
SUMMARY:ENOUGH IS ENOUGH
DTSTAMP;TZID=America/Los_Angeles:20211231T150000
DTSTART;TZID=America/Los_Angeles:20211231T150000
DTEND;TZID=America/Los_Angeles:20211231T170000
LOCATION:1410 Granville St\, Vancouver\, British Columbia\, Canada
END:VEVENT
END:VCALENDAR