BEGIN:VCALENDAR
VERSION:2.0
PRODID:Spatie calendar-links
BEGIN:VEVENT
UID:07e90488180567822fec9a97ac927276
SUMMARY:THE MEDIA IS THE VIRUS - Vancouver
DTSTAMP;TZID=America/Los_Angeles:20220122T120000
DTSTART;TZID=America/Los_Angeles:20220122T120000
DTEND;TZID=America/Los_Angeles:20220122T150000
LOCATION:2440 Ash Street\, Vancouver\, British Columbia\, Canada
END:VEVENT
END:VCALENDAR