BEGIN:VCALENDAR
VERSION:2.0
PRODID:Spatie calendar-links
BEGIN:VEVENT
UID:e5c3bbdd76a6216fe187091bd0565f83
SUMMARY:Freedom Worship Rally - Pitt Meadows
DTSTAMP;TZID=America/Los_Angeles:20220109T180000
DTSTART;TZID=America/Los_Angeles:20220109T180000
DTEND;TZID=America/Los_Angeles:20220109T200000
LOCATION:19040 Lougheed Hwy\, Pitt Meadows\, British Columbia\, Canada
END:VEVENT
END:VCALENDAR