BEGIN:VCALENDAR
VERSION:2.0
PRODID:Spatie calendar-links
BEGIN:VEVENT
UID:5c63a168f15ca6956f378b641f040122
SUMMARY:THE MEDIA IS THE VIRUS - Vancouver
DTSTAMP;TZID=America/Los_Angeles:20220205T120000
DTSTART;TZID=America/Los_Angeles:20220205T120000
DTEND;TZID=America/Los_Angeles:20220205T150000
LOCATION:969 Robson Street\, Vancouver\, British Columbia\, Canada
END:VEVENT
END:VCALENDAR