BEGIN:VCALENDAR
VERSION:2.0
PRODID:Spatie calendar-links
BEGIN:VEVENT
UID:805af76badc45fc8d97069c5a10e4130
SUMMARY:World Wide Rally Jan 22 London
DTSTAMP;TZID=America/Vancouver:20220122T130000
DTSTART;TZID=America/Vancouver:20220122T130000
DTEND;TZID=America/Vancouver:20220122T160000
LOCATION:London\, Ontario\, Canada
END:VEVENT
END:VCALENDAR