BEGIN:VCALENDAR
VERSION:2.0
PRODID:Spatie calendar-links
BEGIN:VEVENT
UID:0a245b44ac4fa223cc2c9993ab4af4b7
SUMMARY:World Wide Rally Jan 22 Hornby Island
DTSTAMP;TZID=America/Vancouver:20220122T120000
DTSTART;TZID=America/Vancouver:20220122T120000
DTEND;TZID=America/Vancouver:20220122T150000
LOCATION:Hornby Island\, BC\, Canada
END:VEVENT
END:VCALENDAR