BEGIN:VCALENDAR
VERSION:2.0
PRODID:Spatie calendar-links
BEGIN:VEVENT
UID:f2c14e89d7a57e8e35b5217db55d4bb9
SUMMARY:World Wide Rally Jan 22 Charlottetown
DTSTAMP;TZID=America/Halifax:20220122T120000
DTSTART;TZID=America/Halifax:20220122T120000
DTEND;TZID=America/Halifax:20220122T150000
LOCATION:Charlottetown\, Prince Edward Island\, Canada
END:VEVENT
END:VCALENDAR