BEGIN:VCALENDAR
VERSION:2.0
PRODID:Spatie calendar-links
BEGIN:VEVENT
UID:d008e42ec3a5db55d8f513f1525bd7e3
SUMMARY:World Wide Rally Jan 22 Winnipeg
DTSTAMP;TZID=America/Winnipeg:20220122T120000
DTSTART;TZID=America/Winnipeg:20220122T120000
DTEND;TZID=America/Winnipeg:20220122T150000
LOCATION:515 Portage Ave\, Winnipeg\, Manitoba\, Canada
END:VEVENT
END:VCALENDAR