BEGIN:VCALENDAR
VERSION:2.0
PRODID:Spatie calendar-links
BEGIN:VEVENT
UID:907de0f21d3ae55f8ce900e06f5c9fda
SUMMARY:World Wide Rally Jan 22nd & 23rd St. John's
DTSTAMP;TZID=America/Halifax:20220122T120000
DTSTART;TZID=America/Halifax:20220122T120000
DTEND;TZID=America/Halifax:20220123T150000
LOCATION:St. John's\, Newfoundland and Labrador\, Canada
END:VEVENT
END:VCALENDAR