BEGIN:VCALENDAR
VERSION:2.0
PRODID:Spatie calendar-links
BEGIN:VEVENT
UID:9ff86a23400450d9efb028e79c536be1
SUMMARY:THE MEDIA IS THE VIRUS - Victoria
DTSTAMP;TZID=America/Los_Angeles:20220205T120000
DTSTART;TZID=America/Los_Angeles:20220205T120000
DTEND;TZID=America/Los_Angeles:20220205T150000
LOCATION:780 King Road\, Victoria\, British Columbia\, Canada
END:VEVENT
END:VCALENDAR