BEGIN:VCALENDAR
VERSION:2.0
PRODID:Spatie calendar-links
BEGIN:VEVENT
UID:db99725724ca22b793bbfbb5bf801afb
SUMMARY:THE MEDIA IS THE VIRUS - Kelowna
DTSTAMP;TZID=America/Los_Angeles:20220205T120000
DTSTART;TZID=America/Los_Angeles:20220205T120000
DTEND;TZID=America/Los_Angeles:20220205T150000
LOCATION:1435 Water Street\, Kelowna\, British Columbia\, Canada
END:VEVENT
END:VCALENDAR