BEGIN:VCALENDAR
VERSION:2.0
PRODID:Spatie calendar-links
BEGIN:VEVENT
UID:e879ce92310f9bed38aa696bc5a83603
SUMMARY:Make Canada Free Again
DTSTAMP;TZID=America/Vancouver:20210312T130000
DTSTART;TZID=America/Vancouver:20210312T130000
DTEND;TZID=America/Vancouver:20210312T150000
LOCATION:Penticton\, BC\, Canada
END:VEVENT
END:VCALENDAR