BEGIN:VCALENDAR
VERSION:2.0
PRODID:Spatie calendar-links
BEGIN:VEVENT
UID:25580d801b81ef9701a1644592235c37
SUMMARY:THE MEDIA IS THE VIRUS - Edmonton
DTSTAMP;TZID=America/Los_Angeles:20220205T130000
DTSTART;TZID=America/Los_Angeles:20220205T130000
DTEND;TZID=America/Los_Angeles:20220205T150000
LOCATION:18250 Stony Plain Road\, Edmonton\, Alberta\, Canada
END:VEVENT
END:VCALENDAR