BEGIN:VCALENDAR
VERSION:2.0
PRODID:Spatie calendar-links
BEGIN:VEVENT
UID:d4084bb409bf63797b95e469dbe9bb6d
SUMMARY:THE MEDIA IS THE VIRUS - Salmon Arm\, BC
DTSTAMP;TZID=America/Los_Angeles:20220205T120000
DTSTART;TZID=America/Los_Angeles:20220205T120000
DTEND;TZID=America/Los_Angeles:20220205T150000
LOCATION:481 7th Street SW\, Salmon Arm\, British Columbia\, Canada
END:VEVENT
END:VCALENDAR