BEGIN:VCALENDAR
VERSION:2.0
PRODID:Spatie calendar-links
BEGIN:VEVENT
UID:56682979113fcea30177658311bc6fa7
SUMMARY:THE MEDIA IS THE VIRUS - Regina 
DTSTAMP;TZID=America/Los_Angeles:20220205T130000
DTSTART;TZID=America/Los_Angeles:20220205T130000
DTEND;TZID=America/Los_Angeles:20220205T150000
LOCATION:2440 Broad Street\, Regina\, Saskatchewan\, Canada
END:VEVENT
END:VCALENDAR